BEGIN:VCALENDAR
VERSION:2.0
PRODID:-//American Punjabi Society | Community, Culture &amp; Networking - ECPv6.15.13.1//NONSGML v1.0//EN
CALSCALE:GREGORIAN
METHOD:PUBLISH
X-WR-CALNAME:American Punjabi Society | Community, Culture &amp; Networking
X-ORIGINAL-URL:https://americanpunjabi.org
X-WR-CALDESC:Events for American Punjabi Society | Community, Culture &amp; Networking
REFRESH-INTERVAL;VALUE=DURATION:PT1H
X-Robots-Tag:noindex
X-PUBLISHED-TTL:PT1H
BEGIN:VTIMEZONE
TZID:UTC
BEGIN:STANDARD
TZOFFSETFROM:+0000
TZOFFSETTO:+0000
TZNAME:UTC
DTSTART:20240101T000000
END:STANDARD
END:VTIMEZONE
BEGIN:VEVENT
DTSTART;TZID=UTC:20250417T170000
DTEND;TZID=UTC:20250417T200000
DTSTAMP:20260419T214920
CREATED:20250916T045935Z
LAST-MODIFIED:20250916T070733Z
UID:3567-1744909200-1744920000@americanpunjabi.org
SUMMARY:Vaisakhi 2025 Celebrations” for 326th Khalsa Panth Sarjana Diwas in Nassau County
DESCRIPTION:Vaisakhi 2025 Celebrations” for the 326th Khalsa Panth Sarjana Diwas  \nDear APS Family\, \nTeam APS would like to thank all of you for your Good Wishes and Participation in the American Punjabi Society “Vaisakhi 2025 Celebrations” for the 326th Khalsa Panth Sarjana Diwas in Nassau County Legislative Chambers on Thursday\, April 17th\, 2025. The Celebrations started with Nassau County Police Exploring Color Guard Presentation of Colors\, followed by Pledge of Allegiance & American National Anthem. County Executive Honorable Bruce Blakeman was presented with “Robe Of Honor Shawl” & a replica of “Golden Temple” by Founder Patron Harry S. Bolla\, Founder Global President Gary S. Sikka\, and Team APS. \nRegards\,\nGary Sikka-President\,\nMohinder S. Taneja-Sr\, Vice President\, Virender PS Sikka-Gen. Secretary\,\nVice Presidents;\nPaul S. Bindra\nAjayvir S. Sondhi\nRavinder PS Narang\nJaspal S. Arora\, Chair\, Women’s Council\, Navneet K. Sondhi & APS Advisory Council.
URL:https://americanpunjabi.org/event/3567/
LOCATION:Thoedore Rosevelt and Legislative Building\, 1550 Franklin Ave\, Mineola\, NY\, United States
CATEGORIES:Event 2025
ATTACH;FMTTYPE=image/webp:https://americanpunjabi.org/wp-content/uploads/2025/09/vaisakhi-1-68c8f63b8cb78.webp
ORGANIZER;CN="American Punjabi Society":MAILTO:info@americanpunjabisociety.com
END:VEVENT
BEGIN:VEVENT
DTSTART;TZID=UTC:20250430T173000
DTEND;TZID=UTC:20250430T220000
DTSTAMP:20260419T214920
CREATED:20250915T155537Z
LAST-MODIFIED:20250915T155800Z
UID:3295-1746034200-1746050400@americanpunjabi.org
SUMMARY:Fourth Annual Vaisakhi and Sikh Heritage Celebrations at NYPD Police Academy
DESCRIPTION:Dear APS Family\, \nThe New York Police Department Sikh Officers Association held its Fourth Annual Vaisakhi and Sikh Heritage Celebrations at the NYPD Police Academy. Community Service Honorees American Punjabi Society represented by President Gary Sikka\, Sr. VP Mohinder Singh Taneja\, and Women’s Council Chair Navneet K. Sondhi\, and Team Women’s Council were very pleased to join in the celebrations. Thanks to SOA President Gurvinder Singh & his Executive Committee for the honor\, and Jus Punjabi Media for this TV presentation. \n\nRegards\,\nPaul S. Bindra\nVice President.
URL:https://americanpunjabi.org/event/fourth-annual-vaisakhi-and-sikh-heritage-celebrations-at-nypd-police-academy/
LOCATION:Nassau County Police Department\, 130-30 28th Ave\, Flushing\, NY\, United States
CATEGORIES:Event 2025
ATTACH;FMTTYPE=image/webp:https://americanpunjabi.org/wp-content/uploads/2025/09/portfolia-vasialhi-68c7fc71ea56f.webp
END:VEVENT
END:VCALENDAR